BEGIN:VCALENDAR
VERSION:2.0
PRODID:-//ChamberMaster//Event Calendar 2.0//EN
METHOD:PUBLISH
X-PUBLISHED-TTL:P1H
REFRESH-INTERVAL:P1H
CALSCALE:GREGORIAN
BEGIN:VTIMEZONE
TZID:America/New_York
BEGIN:DAYLIGHT
RRULE:FREQ=YEARLY;BYMONTH=3;BYDAY=2SU
DTSTART:20070101T000000
TZOFFSETFROM:-0500
TZOFFSETTO:-0400
TZNAME:Eastern Daylight Time
END:DAYLIGHT
BEGIN:STANDARD
RRULE:FREQ=YEARLY;BYMONTH=11;BYDAY=1SU
DTSTART:20070101T000000
TZOFFSETFROM:-0400
TZOFFSETTO:-0500
TZNAME:Eastern Standard Time
END:STANDARD
END:VTIMEZONE
BEGIN:VEVENT
DTSTART;TZID=America/New_York:20251117T150000
DTEND;TZID=America/New_York:20251121T170000
X-MICROSOFT-CDO-ALLDAYEVENT:FALSE
SUMMARY:International Fraud Awareness Week- Open House
DESCRIPTION:Please stop by for free handouts: Scams and Your Small Business\; Data\nBreach Response\; Sample Fraud Policy and more! Please call the office for\nmore information at 321-622-8844.
X-ALT-DESC;FMTTYPE=text/html:Please stop by for free handouts: Scams and Your Small Business\; Data\nBreach Response\; Sample Fraud Policy and more! Please call the office for\nmore information at 321-622-8844.
LOCATION:2226 Sarno Road\, Suite 102 Melbourne FL 32935
UID:e.2013.1321086
SEQUENCE:3
DTSTAMP:20260421T103015Z
URL:https://members.melbourneregionalchamber.com/chamber-events/Details/international-fraud-awareness-week-open-house-1549227?sourceTypeId=Hub
END:VEVENT
END:VCALENDAR
